BEGIN:VCALENDAR
VERSION:2.0
PRODID:-//213.186.33.4//NONSGML kigkonsult.se iCalcreator 2.20//
CALSCALE:GREGORIAN
METHOD:PUBLISH
X-WR-TIMEZONE:Europe/Paris
BEGIN:VEVENT
UID:event728@GUMS Paris
DTSTAMP:20260421T094045Z
CATEGORIES:Ski de Rando
DESCRIPTION:raid pulka Norvège\nCatégorie: Ski de Rando\nLien: https://www.
 gumsparis.asso.fr/index.php?option=com_jem&view=event&id=728:raid-pulka-no
 rvege\n
DTSTART;VALUE=DATE:20200320
DTEND;VALUE=DATE:20200413
SUMMARY:raid pulka Norvège
URL:https://www.gumsparis.asso.fr/index.php?option=com_jem&view=event&id=72
 8:raid-pulka-norvege
END:VEVENT
END:VCALENDAR
