BEGIN:VCALENDAR
VERSION:2.0
PRODID:-//213.186.33.4//NONSGML kigkonsult.se iCalcreator 2.20//
CALSCALE:GREGORIAN
METHOD:PUBLISH
X-WR-TIMEZONE:Europe/Paris
BEGIN:VEVENT
UID:event730@GUMS Paris
DTSTAMP:20260421T094654Z
CATEGORIES:Sorties randonnée
DESCRIPTION:En remontant l’Orge à partir de Juvisy-sur-Orge\nCatégorie: Sor
 ties randonnée\nLien: https://www.gumsparis.asso.fr/index.php?option=com_j
 em&view=event&id=730:en-remontant-l-orge-a-partir-de-juvisy-sur-orge\n
DTSTART;VALUE=DATE:20200301
DTEND;VALUE=DATE:20200302
SUMMARY:En remontant l’Orge à partir de Juvisy-sur-Orge
URL:https://www.gumsparis.asso.fr/index.php?option=com_jem&view=event&id=73
 0:en-remontant-l-orge-a-partir-de-juvisy-sur-orge
END:VEVENT
END:VCALENDAR
