BEGIN:VCALENDAR
VERSION:2.0
PRODID:-//213.186.33.4//NONSGML kigkonsult.se iCalcreator 2.20//
CALSCALE:GREGORIAN
METHOD:PUBLISH
X-WR-TIMEZONE:Europe/Paris
BEGIN:VEVENT
UID:event733@GUMS Paris
DTSTAMP:20260421T093914Z
CATEGORIES:Sorties Falaises
DESCRIPTION:Week-end Peak District Annulé\nCatégorie: Sorties Falaises\nLie
 n: https://www.gumsparis.asso.fr/index.php?option=com_jem&view=event&id=73
 3:week-end-peak-district\n
DTSTART;VALUE=DATE:20200521
DTEND;VALUE=DATE:20200525
SUMMARY:Week-end Peak District Annulé
URL:https://www.gumsparis.asso.fr/index.php?option=com_jem&view=event&id=73
 3:week-end-peak-district
END:VEVENT
END:VCALENDAR
