BEGIN:VCALENDAR
VERSION:2.0
PRODID:-//213.186.33.4//NONSGML kigkonsult.se iCalcreator 2.20//
CALSCALE:GREGORIAN
METHOD:PUBLISH
X-WR-TIMEZONE:Europe/Paris
BEGIN:VEVENT
UID:event734@GUMS Paris
DTSTAMP:20260421T093942Z
CATEGORIES:Ski de Rando
DESCRIPTION:Car-couchettes Stage Juf (Grisons)\nCatégorie: Ski de Rando\nLi
 en: https://www.gumsparis.asso.fr/index.php?option=com_jem&view=event&id=7
 34:car-couchette-166\n
DTSTART;VALUE=DATE:20200215
DTEND;VALUE=DATE:20200222
SUMMARY:Car-couchettes Stage Juf (Grisons)
URL:https://www.gumsparis.asso.fr/index.php?option=com_jem&view=event&id=73
 4:car-couchette-166
END:VEVENT
END:VCALENDAR
