BEGIN:VCALENDAR
VERSION:2.0
PRODID:-//213.186.33.4//NONSGML kigkonsult.se iCalcreator 2.20//
CALSCALE:GREGORIAN
METHOD:PUBLISH
X-WR-TIMEZONE:Europe/Paris
BEGIN:VEVENT
UID:event735@GUMS Paris
DTSTAMP:20260421T094104Z
CATEGORIES:Sorties Falaises
DESCRIPTION:Car-couchettes Gorges de la Jonte/ du Tarn Annulé\nCatégorie: S
 orties Falaises\nLien: https://www.gumsparis.asso.fr/index.php?option=com_
 jem&view=event&id=735:car-couchette-164\n
DTSTART;VALUE=DATE:20200501
DTEND;VALUE=DATE:20200504
SUMMARY:Car-couchettes Gorges de la Jonte/ du Tarn Annulé
URL:https://www.gumsparis.asso.fr/index.php?option=com_jem&view=event&id=73
 5:car-couchette-164
END:VEVENT
END:VCALENDAR
