BEGIN:VCALENDAR
VERSION:2.0
PRODID:-//213.186.33.4//NONSGML kigkonsult.se iCalcreator 2.20//
CALSCALE:GREGORIAN
METHOD:PUBLISH
X-WR-TIMEZONE:Europe/Paris
BEGIN:VEVENT
UID:event736@GUMS Paris
DTSTAMP:20260421T094104Z
CATEGORIES:Ski de Rando
DESCRIPTION:Car-couchettes Chamonix Annulé\nCatégorie: Ski de Rando\nLien: 
 https://www.gumsparis.asso.fr/index.php?option=com_jem&view=event&id=736:c
 ar-couchette-165\n
DTSTART;VALUE=DATE:20200620
DTEND;VALUE=DATE:20200622
SUMMARY:Car-couchettes Chamonix Annulé
URL:https://www.gumsparis.asso.fr/index.php?option=com_jem&view=event&id=73
 6:car-couchette-165
END:VEVENT
END:VCALENDAR
