BEGIN:VCALENDAR
VERSION:2.0
PRODID:-//213.186.33.4//NONSGML kigkonsult.se iCalcreator 2.20//
CALSCALE:GREGORIAN
METHOD:PUBLISH
X-WR-TIMEZONE:Europe/Paris
BEGIN:VEVENT
UID:event741@GUMS Paris
DTSTAMP:20260421T094834Z
CATEGORIES:Sorties randonnée
DESCRIPTION:La Forêt de Fontainebleau\, aux abords de Bois-le-Roi Annulé\nC
 atégorie: Sorties randonnée\nLien: https://www.gumsparis.asso.fr/index.php
 ?option=com_jem&view=event&id=741:la-foret-de-fontainebleau-aux-abords-de-
 bois-le-roi\n
DTSTART;TZID=Europe/Paris:20200503T100000
DTEND;TZID=Europe/Paris:20200503T100000
SUMMARY:La Forêt de Fontainebleau\, aux abords de Bois-le-Roi Annulé
URL:https://www.gumsparis.asso.fr/index.php?option=com_jem&view=event&id=74
 1:la-foret-de-fontainebleau-aux-abords-de-bois-le-roi
END:VEVENT
END:VCALENDAR
