BEGIN:VCALENDAR
VERSION:2.0
PRODID:-//213.186.33.4//NONSGML kigkonsult.se iCalcreator 2.20//
CALSCALE:GREGORIAN
METHOD:PUBLISH
X-WR-TIMEZONE:Europe/Paris
BEGIN:VEVENT
UID:event742@GUMS Paris
DTSTAMP:20260421T094834Z
CATEGORIES:Sorties randonnée
DESCRIPTION:Le Bassin de Trévoix et l'Eglise Saint Didier\nCatégorie: Sorti
 es randonnée\nLien: https://www.gumsparis.asso.fr/index.php?option=com_jem
 &view=event&id=742:le-bassin-de-trevoix-et-l-eglise-saint-didier\n
DTSTART;TZID=Europe/Paris:20200607T093000
DTEND;TZID=Europe/Paris:20200607T093000
SUMMARY:Le Bassin de Trévoix et l'Eglise Saint Didier
URL:https://www.gumsparis.asso.fr/index.php?option=com_jem&view=event&id=74
 2:le-bassin-de-trevoix-et-l-eglise-saint-didier
END:VEVENT
END:VCALENDAR
