BEGIN:VCALENDAR
VERSION:2.0
PRODID:-//213.186.33.4//NONSGML kigkonsult.se iCalcreator 2.20//
CALSCALE:GREGORIAN
METHOD:PUBLISH
X-WR-TIMEZONE:Europe/Paris
BEGIN:VEVENT
UID:event745@GUMS Paris
DTSTAMP:20260421T094116Z
CATEGORIES:Sorties Falaises
DESCRIPTION:Siurana (Espagne)\nCatégorie: Sorties Falaises\nLien: https://w
 ww.gumsparis.asso.fr/index.php?option=com_jem&view=event&id=745:siurana-es
 pagne\n
DTSTART;VALUE=DATE:20201017
DTEND;VALUE=DATE:20201026
SUMMARY:Siurana (Espagne)
URL:https://www.gumsparis.asso.fr/index.php?option=com_jem&view=event&id=74
 5:siurana-espagne
END:VEVENT
END:VCALENDAR
