BEGIN:VCALENDAR
VERSION:2.0
PRODID:-//213.186.33.4//NONSGML kigkonsult.se iCalcreator 2.20//
CALSCALE:GREGORIAN
METHOD:PUBLISH
X-WR-TIMEZONE:Europe/Paris
BEGIN:VEVENT
UID:event746@GUMS Paris
DTSTAMP:20260421T094110Z
CATEGORIES:Sorties Falaises
DESCRIPTION:Siurana (Espagne) ANNULÉ\nCatégorie: Sorties Falaises\nLien: ht
 tps://www.gumsparis.asso.fr/index.php?option=com_jem&view=event&id=746:siu
 rana-espagne\n
DTSTART;VALUE=DATE:20201017
DTEND;VALUE=DATE:20201026
SUMMARY:Siurana (Espagne) ANNULÉ
URL:https://www.gumsparis.asso.fr/index.php?option=com_jem&view=event&id=74
 6:siurana-espagne
END:VEVENT
END:VCALENDAR
