BEGIN:VCALENDAR
VERSION:2.0
PRODID:-//213.186.33.4//NONSGML kigkonsult.se iCalcreator 2.20//
CALSCALE:GREGORIAN
METHOD:PUBLISH
X-WR-TIMEZONE:Europe/Paris
BEGIN:VEVENT
UID:event748@GUMS Paris
DTSTAMP:20260421T093942Z
CATEGORIES:Alpinisme
DESCRIPTION:Rassemblement d'été\nCatégorie: Alpinisme\nLien: https://www.gu
 msparis.asso.fr/index.php?option=com_jem&view=event&id=748:rassemblement-d
 -ete\n
DTSTART;VALUE=DATE:20200715
DTEND;VALUE=DATE:20200716
LOCATION:camping des Montets\,Vallorcine
SUMMARY:Rassemblement d'été
URL:https://www.gumsparis.asso.fr/index.php?option=com_jem&view=event&id=74
 8:rassemblement-d-ete
END:VEVENT
END:VCALENDAR
