BEGIN:VCALENDAR
VERSION:2.0
PRODID:-//213.186.33.4//NONSGML kigkonsult.se iCalcreator 2.20//
CALSCALE:GREGORIAN
METHOD:PUBLISH
X-WR-TIMEZONE:Europe/Paris
BEGIN:VEVENT
UID:event749@GUMS Paris
DTSTAMP:20260421T094654Z
CATEGORIES:Sorties randonnée
DESCRIPTION:Autour de Boissy-aux-Cailles (Sud de Noisy-sur-Ecole)\nCatégori
 e: Sorties randonnée\nLien: https://www.gumsparis.asso.fr/index.php?option
 =com_jem&view=event&id=749:autour-de-boissy-aux-cailles-sud-de-noisy-sur-e
 cole\n
DTSTART;TZID=Europe/Paris:20200920T100000
DTEND;TZID=Europe/Paris:20200920T100000
SUMMARY:Autour de Boissy-aux-Cailles (Sud de Noisy-sur-Ecole)
URL:https://www.gumsparis.asso.fr/index.php?option=com_jem&view=event&id=74
 9:autour-de-boissy-aux-cailles-sud-de-noisy-sur-ecole
END:VEVENT
END:VCALENDAR
