BEGIN:VCALENDAR
VERSION:2.0
PRODID:-//213.186.33.4//NONSGML kigkonsult.se iCalcreator 2.20//
CALSCALE:GREGORIAN
METHOD:PUBLISH
X-WR-TIMEZONE:Europe/Paris
BEGIN:VEVENT
UID:event75@GUMS Paris
DTSTAMP:20260421T092153Z
CATEGORIES:Sorties Falaises
DESCRIPTION:Car-couchettes Val Ferret/Val Veny\nCatégorie: Sorties Falaises
 \nLien: https://www.gumsparis.asso.fr/index.php?option=com_jem&view=event&
 id=75:car-couchettes-vanoise\n
DTSTART;VALUE=DATE:20110602
DTEND;VALUE=DATE:20110606
SUMMARY:Car-couchettes Val Ferret/Val Veny
URL:https://www.gumsparis.asso.fr/index.php?option=com_jem&view=event&id=75
 :car-couchettes-vanoise
END:VEVENT
END:VCALENDAR
