BEGIN:VCALENDAR
VERSION:2.0
PRODID:-//213.186.33.4//NONSGML kigkonsult.se iCalcreator 2.20//
CALSCALE:GREGORIAN
METHOD:PUBLISH
X-WR-TIMEZONE:Europe/Paris
BEGIN:VEVENT
UID:event751@GUMS Paris
DTSTAMP:20260421T094153Z
CATEGORIES:Sorties Falaises
DESCRIPTION:Gorges de la Jonte et du Tarn\nCatégorie: Sorties Falaises\nLie
 n: https://www.gumsparis.asso.fr/index.php?option=com_jem&view=event&id=75
 1:gorges-de-la-jonte-et-du-tarn\n
DTSTART;VALUE=DATE:20201017
DTEND;VALUE=DATE:20201026
SUMMARY:Gorges de la Jonte et du Tarn
URL:https://www.gumsparis.asso.fr/index.php?option=com_jem&view=event&id=75
 1:gorges-de-la-jonte-et-du-tarn
END:VEVENT
END:VCALENDAR
