BEGIN:VCALENDAR
VERSION:2.0
PRODID:-//213.186.33.4//NONSGML kigkonsult.se iCalcreator 2.20//
CALSCALE:GREGORIAN
METHOD:PUBLISH
X-WR-TIMEZONE:Europe/Paris
BEGIN:VEVENT
UID:event752@GUMS Paris
DTSTAMP:20260421T093820Z
CATEGORIES:Rando sportive
DESCRIPTION:WE Rando Montagne / Alpine\nCatégorie: Rando sportive\nLien: ht
 tps://www.gumsparis.asso.fr/index.php?option=com_jem&view=event&id=752:ver
 cors-ou-devoluy\n
DTSTART;VALUE=DATE:20201010
DTEND;VALUE=DATE:20201012
SUMMARY:WE Rando Montagne / Alpine
URL:https://www.gumsparis.asso.fr/index.php?option=com_jem&view=event&id=75
 2:vercors-ou-devoluy
END:VEVENT
END:VCALENDAR
