BEGIN:VCALENDAR
VERSION:2.0
PRODID:-//213.186.33.4//NONSGML kigkonsult.se iCalcreator 2.20//
CALSCALE:GREGORIAN
METHOD:PUBLISH
X-WR-TIMEZONE:Europe/Paris
BEGIN:VEVENT
UID:event753@GUMS Paris
DTSTAMP:20260421T093820Z
CATEGORIES:Rando sportive
DESCRIPTION:WE Rando Alpine\nCatégorie: Rando sportive\nLien: https://www.g
 umsparis.asso.fr/index.php?option=com_jem&view=event&id=753:ecrins\n
DTSTART;VALUE=DATE:20201024
DTEND;VALUE=DATE:20201026
SUMMARY:WE Rando Alpine
URL:https://www.gumsparis.asso.fr/index.php?option=com_jem&view=event&id=75
 3:ecrins
END:VEVENT
END:VCALENDAR
