BEGIN:VCALENDAR
VERSION:2.0
PRODID:-//213.186.33.4//NONSGML kigkonsult.se iCalcreator 2.20//
CALSCALE:GREGORIAN
METHOD:PUBLISH
X-WR-TIMEZONE:Europe/Paris
BEGIN:VEVENT
UID:event754@GUMS Paris
DTSTAMP:20260421T094110Z
CATEGORIES:Rando sportive
DESCRIPTION:Rando Montagne\nCatégorie: Rando sportive\nLien: https://www.gu
 msparis.asso.fr/index.php?option=com_jem&view=event&id=754:rando-montagne
 \n
DTSTART;VALUE=DATE:20201107
DTEND;VALUE=DATE:20201109
SUMMARY:Rando Montagne
URL:https://www.gumsparis.asso.fr/index.php?option=com_jem&view=event&id=75
 4:rando-montagne
END:VEVENT
END:VCALENDAR
