BEGIN:VCALENDAR
VERSION:2.0
PRODID:-//213.186.33.4//NONSGML kigkonsult.se iCalcreator 2.20//
CALSCALE:GREGORIAN
METHOD:PUBLISH
X-WR-TIMEZONE:Europe/Paris
BEGIN:VEVENT
UID:event755@GUMS Paris
DTSTAMP:20260421T094239Z
CATEGORIES:Sorties Falaises
DESCRIPTION:Escalade à Vieux-Château\nCatégorie: Sorties Falaises\nLien: ht
 tps://www.gumsparis.asso.fr/index.php?option=com_jem&view=event&id=755:esc
 alade-a-vieux-chateau\n
DTSTART;VALUE=DATE:20201010
DTEND;VALUE=DATE:20201012
SUMMARY:Escalade à Vieux-Château
URL:https://www.gumsparis.asso.fr/index.php?option=com_jem&view=event&id=75
 5:escalade-a-vieux-chateau
END:VEVENT
END:VCALENDAR
