BEGIN:VCALENDAR
VERSION:2.0
PRODID:-//213.186.33.4//NONSGML kigkonsult.se iCalcreator 2.20//
CALSCALE:GREGORIAN
METHOD:PUBLISH
X-WR-TIMEZONE:Europe/Paris
BEGIN:VEVENT
UID:event756@GUMS Paris
DTSTAMP:20260421T094104Z
CATEGORIES:Ski de Rando
DESCRIPTION:entrainement DVA bleau\nCatégorie: Ski de Rando\nLien: https://
 www.gumsparis.asso.fr/index.php?option=com_jem&view=event&id=756:entrainem
 ent-dva-bleau\n
DTSTART;TZID=Europe/Paris:20201128T100000
DTEND;TZID=Europe/Paris:20201128T160000
LOCATION:Forêt de Fontainebleau\,77300 Fontainebleau
SUMMARY:entrainement DVA bleau
URL:https://www.gumsparis.asso.fr/index.php?option=com_jem&view=event&id=75
 6:entrainement-dva-bleau
END:VEVENT
END:VCALENDAR
