BEGIN:VCALENDAR
VERSION:2.0
PRODID:-//213.186.33.4//NONSGML kigkonsult.se iCalcreator 2.20//
CALSCALE:GREGORIAN
METHOD:PUBLISH
X-WR-TIMEZONE:Europe/Paris
BEGIN:VEVENT
UID:event757@GUMS Paris
DTSTAMP:20260421T094938Z
CATEGORIES:Sorties randonnée
DESCRIPTION:La Forêt de Fontainebleau La tour Denecourt et le rocher Cassep
 ot\nCatégorie: Sorties randonnée\nLien: https://www.gumsparis.asso.fr/inde
 x.php?option=com_jem&view=event&id=757:ballade-dans-la-foret-de-fontainebl
 eau-la-tour-denecourt-et-le-rocher-cassepot\n
DTSTART;TZID=Europe/Paris:20201108T094500
DTEND;TZID=Europe/Paris:20201108T094500
SUMMARY:La Forêt de Fontainebleau La tour Denecourt et le rocher Cassepot
URL:https://www.gumsparis.asso.fr/index.php?option=com_jem&view=event&id=75
 7:ballade-dans-la-foret-de-fontainebleau-la-tour-denecourt-et-le-rocher-ca
 ssepot
END:VEVENT
END:VCALENDAR
