BEGIN:VCALENDAR
VERSION:2.0
PRODID:-//213.186.33.4//NONSGML kigkonsult.se iCalcreator 2.20//
CALSCALE:GREGORIAN
METHOD:PUBLISH
X-WR-TIMEZONE:Europe/Paris
BEGIN:VEVENT
UID:event759@GUMS Paris
DTSTAMP:20260421T094542Z
CATEGORIES:Sorties randonnée
DESCRIPTION:Parcs et jardins le long de l’Yerres\nCatégorie: Sorties randon
 née\nLien: https://www.gumsparis.asso.fr/index.php?option=com_jem&view=eve
 nt&id=759:parcs-et-jardins-le-long-de-l-yerres\n
DTSTART;TZID=Europe/Paris:20201220T100000
DTEND;TZID=Europe/Paris:20201220T100000
LOCATION:Forêt de Fontainebleau\,77300 Fontainebleau
SUMMARY:Parcs et jardins le long de l’Yerres
URL:https://www.gumsparis.asso.fr/index.php?option=com_jem&view=event&id=75
 9:parcs-et-jardins-le-long-de-l-yerres
END:VEVENT
END:VCALENDAR
