BEGIN:VCALENDAR
VERSION:2.0
PRODID:-//213.186.33.4//NONSGML kigkonsult.se iCalcreator 2.20//
CALSCALE:GREGORIAN
METHOD:PUBLISH
X-WR-TIMEZONE:Europe/Paris
BEGIN:VEVENT
UID:event76@GUMS Paris
DTSTAMP:20260421T092221Z
CATEGORIES:Sorties Falaises
DESCRIPTION:Car-couchettes Pen-hir (Camaret sur mer)\nCatégorie: Sorties Fa
 laises\nLien: https://www.gumsparis.asso.fr/index.php?option=com_jem&view=
 event&id=76:sortie-lointaine-destination-a-preciser\n
DTSTART;VALUE=DATE:20110611
DTEND;VALUE=DATE:20110614
SUMMARY:Car-couchettes Pen-hir (Camaret sur mer)
URL:https://www.gumsparis.asso.fr/index.php?option=com_jem&view=event&id=76
 :sortie-lointaine-destination-a-preciser
END:VEVENT
END:VCALENDAR
