BEGIN:VCALENDAR
VERSION:2.0
PRODID:-//213.186.33.4//NONSGML kigkonsult.se iCalcreator 2.20//
CALSCALE:GREGORIAN
METHOD:PUBLISH
X-WR-TIMEZONE:Europe/Paris
BEGIN:VEVENT
UID:event77@GUMS Paris
DTSTAMP:20260421T092021Z
CATEGORIES:Vie du Club
DESCRIPTION:soirée gaufres à la perma\nCatégorie: Vie du Club\nLien: https:
 //www.gumsparis.asso.fr/index.php?option=com_jem&view=event&id=77:soiree-g
 auffre\n
DTSTART;TZID=Europe/Paris:20101125T200000
DTEND;TZID=Europe/Paris:20101125T200000
LOCATION:Forêt de Fontainebleau\,77300 Fontainebleau
SUMMARY:soirée gaufres à la perma
URL:https://www.gumsparis.asso.fr/index.php?option=com_jem&view=event&id=77
 :soiree-gauffre
END:VEVENT
END:VCALENDAR
