BEGIN:VCALENDAR
VERSION:2.0
PRODID:-//213.186.33.4//NONSGML kigkonsult.se iCalcreator 2.20//
CALSCALE:GREGORIAN
METHOD:PUBLISH
X-WR-TIMEZONE:Europe/Paris
BEGIN:VEVENT
UID:event776@GUMS Paris
DTSTAMP:20260421T094851Z
CATEGORIES:Sorties randonnée
DESCRIPTION:Forêt de Fontainebleau la Tour Denecourt et le Rocher Cassepot
 \nCatégorie: Sorties randonnée\nLien: https://www.gumsparis.asso.fr/index.
 php?option=com_jem&view=event&id=776:foret-de-fontainebleau-la-tour-deneco
 urt-et-le-rocher-cassepot\n
DTSTART;TZID=Europe/Paris:20210207T094500
DTEND;TZID=Europe/Paris:20210207T094500
LOCATION:Parking Bouquet de la Reine Amélie\,Route de la Reine Amélie\,7730
 0 Fontainebleau
SUMMARY:Forêt de Fontainebleau la Tour Denecourt et le Rocher Cassepot
URL:https://www.gumsparis.asso.fr/index.php?option=com_jem&view=event&id=77
 6:foret-de-fontainebleau-la-tour-denecourt-et-le-rocher-cassepot
END:VEVENT
END:VCALENDAR
