BEGIN:VCALENDAR
VERSION:2.0
PRODID:-//213.186.33.4//NONSGML kigkonsult.se iCalcreator 2.20//
CALSCALE:GREGORIAN
METHOD:PUBLISH
X-WR-TIMEZONE:Europe/Paris
BEGIN:VEVENT
UID:event777@GUMS Paris
DTSTAMP:20260421T094543Z
CATEGORIES:Sorties randonnée
DESCRIPTION:Le Canton d’Aubergenville\nCatégorie: Sorties randonnée\nLien: 
 https://www.gumsparis.asso.fr/index.php?option=com_jem&view=event&id=777:l
 e-canton-d-aubergenville\n
DTSTART;TZID=Europe/Paris:20210307T100000
DTEND;TZID=Europe/Paris:20210307T100000
LOCATION:Parking de la Gare de Nèzel-Aulnay\,78410
SUMMARY:Le Canton d’Aubergenville
URL:https://www.gumsparis.asso.fr/index.php?option=com_jem&view=event&id=77
 7:le-canton-d-aubergenville
END:VEVENT
END:VCALENDAR
