BEGIN:VCALENDAR
VERSION:2.0
PRODID:-//213.186.33.4//NONSGML kigkonsult.se iCalcreator 2.20//
CALSCALE:GREGORIAN
METHOD:PUBLISH
X-WR-TIMEZONE:Europe/Paris
BEGIN:VEVENT
UID:event778@GUMS Paris
DTSTAMP:20260421T094701Z
CATEGORIES:Sorties randonnée
DESCRIPTION:Boucle de 5 villages dans le parc du Vexin\nCatégorie: Sorties 
 randonnée\nLien: https://www.gumsparis.asso.fr/index.php?option=com_jem&vi
 ew=event&id=778:boucle-de-5-villages-dans-le-parc-du-vexin\n
DTSTART;TZID=Europe/Paris:20210411T100000
DTEND;TZID=Europe/Paris:20210411T100000
LOCATION:Parking de la Place Grammont\,\,Place Grammont\,91490 Milly-la-For
 êt
SUMMARY:Boucle de 5 villages dans le parc du Vexin
URL:https://www.gumsparis.asso.fr/index.php?option=com_jem&view=event&id=77
 8:boucle-de-5-villages-dans-le-parc-du-vexin
END:VEVENT
END:VCALENDAR
