BEGIN:VCALENDAR
VERSION:2.0
PRODID:-//213.186.33.4//NONSGML kigkonsult.se iCalcreator 2.20//
CALSCALE:GREGORIAN
METHOD:PUBLISH
X-WR-TIMEZONE:Europe/Paris
BEGIN:VEVENT
UID:event780@GUMS Paris
DTSTAMP:20260421T093907Z
CATEGORIES:Sorties Falaises
DESCRIPTION:Escalade à Cormot\nCatégorie: Sorties Falaises\nLien: https://w
 ww.gumsparis.asso.fr/index.php?option=com_jem&view=event&id=780:week-end-a
 -cormot\n
DTSTART;VALUE=DATE:20210403
DTEND;VALUE=DATE:20210406
SUMMARY:Escalade à Cormot
URL:https://www.gumsparis.asso.fr/index.php?option=com_jem&view=event&id=78
 0:week-end-a-cormot
END:VEVENT
END:VCALENDAR
