BEGIN:VCALENDAR
VERSION:2.0
PRODID:-//213.186.33.4//NONSGML kigkonsult.se iCalcreator 2.20//
CALSCALE:GREGORIAN
METHOD:PUBLISH
X-WR-TIMEZONE:Europe/Paris
BEGIN:VEVENT
UID:event784@GUMS Paris
DTSTAMP:20260421T094526Z
CATEGORIES:Sorties Falaises
DESCRIPTION:Escalade au Saussois / Rocher du parc\nCatégorie: Sorties Falai
 ses\nLien: https://www.gumsparis.asso.fr/index.php?option=com_jem&view=eve
 nt&id=784:escalade-au-saussois-rocher-du-parc\n
DTSTART;VALUE=DATE:20210619
DTEND;VALUE=DATE:20210621
SUMMARY:Escalade au Saussois / Rocher du parc
URL:https://www.gumsparis.asso.fr/index.php?option=com_jem&view=event&id=78
 4:escalade-au-saussois-rocher-du-parc
END:VEVENT
END:VCALENDAR
