BEGIN:VCALENDAR
VERSION:2.0
PRODID:-//213.186.33.4//NONSGML kigkonsult.se iCalcreator 2.20//
CALSCALE:GREGORIAN
METHOD:PUBLISH
X-WR-TIMEZONE:Europe/Paris
BEGIN:VEVENT
UID:event785@GUMS Paris
DTSTAMP:20260421T093914Z
CATEGORIES:Ski de Rando
DESCRIPTION:Ski de rando\, Alpes du Nord.\nCatégorie: Ski de Rando\nLien: h
 ttps://www.gumsparis.asso.fr/index.php?option=com_jem&view=event&id=785:sk
 i-de-rando\n
DTSTART;VALUE=DATE:20210320
DTEND;VALUE=DATE:20210322
SUMMARY:Ski de rando\, Alpes du Nord.
URL:https://www.gumsparis.asso.fr/index.php?option=com_jem&view=event&id=78
 5:ski-de-rando
END:VEVENT
END:VCALENDAR
