BEGIN:VCALENDAR
VERSION:2.0
PRODID:-//213.186.33.4//NONSGML kigkonsult.se iCalcreator 2.20//
CALSCALE:GREGORIAN
METHOD:PUBLISH
X-WR-TIMEZONE:Europe/Paris
BEGIN:VEVENT
UID:event786@GUMS Paris
DTSTAMP:20260421T094533Z
CATEGORIES:Ski de Rando
DESCRIPTION:Ski de rando\, Alpes du Nord.\nCatégorie: Ski de Rando\nLien: h
 ttps://www.gumsparis.asso.fr/index.php?option=com_jem&view=event&id=786:sk
 i-de-rando-alpes-du-nord\n
DTSTART;VALUE=DATE:20210403
DTEND;VALUE=DATE:20210406
SUMMARY:Ski de rando\, Alpes du Nord.
URL:https://www.gumsparis.asso.fr/index.php?option=com_jem&view=event&id=78
 6:ski-de-rando-alpes-du-nord
END:VEVENT
END:VCALENDAR
