BEGIN:VCALENDAR
VERSION:2.0
PRODID:-//213.186.33.4//NONSGML kigkonsult.se iCalcreator 2.20//
CALSCALE:GREGORIAN
METHOD:PUBLISH
X-WR-TIMEZONE:Europe/Paris
BEGIN:VEVENT
UID:event792@GUMS Paris
DTSTAMP:20260421T094253Z
CATEGORIES:Sorties randonnée
DESCRIPTION:Le Parc Naturel du Pâtis\nCatégorie: Sorties randonnée\nLien: h
 ttps://www.gumsparis.asso.fr/index.php?option=com_jem&view=event&id=792:le
 -parc-naturel-du-patis\n
DTSTART;TZID=Europe/Paris:20210516T100000
DTEND;TZID=Europe/Paris:20210516T100000
SUMMARY:Le Parc Naturel du Pâtis
URL:https://www.gumsparis.asso.fr/index.php?option=com_jem&view=event&id=79
 2:le-parc-naturel-du-patis
END:VEVENT
END:VCALENDAR
