BEGIN:VCALENDAR
VERSION:2.0
PRODID:-//213.186.33.4//NONSGML kigkonsult.se iCalcreator 2.20//
CALSCALE:GREGORIAN
METHOD:PUBLISH
X-WR-TIMEZONE:Europe/Paris
BEGIN:VEVENT
UID:event795@GUMS Paris
DTSTAMP:20260421T094253Z
CATEGORIES:Sorties randonnée
DESCRIPTION:Les bois de Milly et de Malabri\nCatégorie: Sorties randonnée\n
 Lien: https://www.gumsparis.asso.fr/index.php?option=com_jem&view=event&id
 =795:les-bois-de-milly-et-de-malabri\n
DTSTART;TZID=Europe/Paris:20210919T100000
DTEND;TZID=Europe/Paris:20210919T100000
SUMMARY:Les bois de Milly et de Malabri
URL:https://www.gumsparis.asso.fr/index.php?option=com_jem&view=event&id=79
 5:les-bois-de-milly-et-de-malabri
END:VEVENT
END:VCALENDAR
