BEGIN:VCALENDAR
VERSION:2.0
PRODID:-//213.186.33.4//NONSGML kigkonsult.se iCalcreator 2.20//
CALSCALE:GREGORIAN
METHOD:PUBLISH
X-WR-TIMEZONE:Europe/Paris
BEGIN:VEVENT
UID:event811@GUMS Paris
DTSTAMP:20260421T081705Z
CATEGORIES:Sorties Falaises
DESCRIPTION:Escalade à Annot\nCatégorie: Sorties Falaises\nLien: https://ww
 w.gumsparis.asso.fr/index.php?option=com_jem&view=event&id=811:escalade-a-
 annot\n
DTSTART;VALUE=DATE:20220416
DTEND;VALUE=DATE:20220419
SUMMARY:Escalade à Annot
URL:https://www.gumsparis.asso.fr/index.php?option=com_jem&view=event&id=81
 1:escalade-a-annot
END:VEVENT
END:VCALENDAR
