BEGIN:VCALENDAR
VERSION:2.0
PRODID:-//213.186.33.4//NONSGML kigkonsult.se iCalcreator 2.20//
CALSCALE:GREGORIAN
METHOD:PUBLISH
X-WR-TIMEZONE:Europe/Paris
BEGIN:VEVENT
UID:event812@GUMS Paris
DTSTAMP:20260421T082522Z
CATEGORIES:Sorties Falaises
DESCRIPTION:Rassemblement d'escalade en Corse\nCatégorie: Sorties Falaises
 \nLien: https://www.gumsparis.asso.fr/index.php?option=com_jem&view=event&
 id=812:rassemblement-d-escalade-en-corse\n
DTSTART;VALUE=DATE:20220423
DTEND;VALUE=DATE:20220509
SUMMARY:Rassemblement d'escalade en Corse
URL:https://www.gumsparis.asso.fr/index.php?option=com_jem&view=event&id=81
 2:rassemblement-d-escalade-en-corse
END:VEVENT
END:VCALENDAR
