BEGIN:VCALENDAR
VERSION:2.0
PRODID:-//213.186.33.4//NONSGML kigkonsult.se iCalcreator 2.20//
CALSCALE:GREGORIAN
METHOD:PUBLISH
X-WR-TIMEZONE:Europe/Paris
BEGIN:VEVENT
UID:event813@GUMS Paris
DTSTAMP:20260421T082223Z
CATEGORIES:Sorties Falaises
DESCRIPTION:Escalade à Pen-Hir\nCatégorie: Sorties Falaises\nLien: https://
 www.gumsparis.asso.fr/index.php?option=com_jem&view=event&id=813:escalade-
 a-pen-hir\n
DTSTART;VALUE=DATE:20220526
DTEND;VALUE=DATE:20220530
SUMMARY:Escalade à Pen-Hir
URL:https://www.gumsparis.asso.fr/index.php?option=com_jem&view=event&id=81
 3:escalade-a-pen-hir
END:VEVENT
END:VCALENDAR
