BEGIN:VCALENDAR
VERSION:2.0
PRODID:-//213.186.33.4//NONSGML kigkonsult.se iCalcreator 2.20//
CALSCALE:GREGORIAN
METHOD:PUBLISH
X-WR-TIMEZONE:Europe/Paris
BEGIN:VEVENT
UID:event814@GUMS Paris
DTSTAMP:20260421T082214Z
CATEGORIES:Sorties Falaises\, Rando sportive
DESCRIPTION:Car couchette escalade\nCatégorie: Sorties Falaises\, Rando spo
 rtive\nLien: https://www.gumsparis.asso.fr/index.php?option=com_jem&view=e
 vent&id=814:car-couchette-escalade\n
DTSTART;VALUE=DATE:20220617
DTEND;VALUE=DATE:20220620
SUMMARY:Car couchette escalade
URL:https://www.gumsparis.asso.fr/index.php?option=com_jem&view=event&id=81
 4:car-couchette-escalade
END:VEVENT
END:VCALENDAR
