BEGIN:VCALENDAR
VERSION:2.0
PRODID:-//213.186.33.4//NONSGML kigkonsult.se iCalcreator 2.20//
CALSCALE:GREGORIAN
METHOD:PUBLISH
X-WR-TIMEZONE:Europe/Paris
BEGIN:VEVENT
UID:event830@GUMS Paris
DTSTAMP:20260421T082434Z
CATEGORIES:Ski de Rando
DESCRIPTION:Car-couchettes Haute Maurienne\nCatégorie: Ski de Rando\nLien: 
 https://www.gumsparis.asso.fr/index.php?option=com_jem&view=event&id=830:c
 ar-couchette-205\n
DTSTART;VALUE=DATE:20220402
DTEND;VALUE=DATE:20220404
SUMMARY:Car-couchettes Haute Maurienne
URL:https://www.gumsparis.asso.fr/index.php?option=com_jem&view=event&id=83
 0:car-couchette-205
END:VEVENT
END:VCALENDAR
