BEGIN:VCALENDAR
VERSION:2.0
PRODID:-//213.186.33.4//NONSGML kigkonsult.se iCalcreator 2.20//
CALSCALE:GREGORIAN
METHOD:PUBLISH
X-WR-TIMEZONE:Europe/Paris
BEGIN:VEVENT
UID:event831@GUMS Paris
DTSTAMP:20260421T082220Z
CATEGORIES:Ski de Rando
DESCRIPTION:Car-couchettes Saint-Christophe-en-Oisans\nCatégorie: Ski de Ra
 ndo\nLien: https://www.gumsparis.asso.fr/index.php?option=com_jem&view=eve
 nt&id=831:car-couchette-206\n
DTSTART;VALUE=DATE:20220416
DTEND;VALUE=DATE:20220419
SUMMARY:Car-couchettes Saint-Christophe-en-Oisans
URL:https://www.gumsparis.asso.fr/index.php?option=com_jem&view=event&id=83
 1:car-couchette-206
END:VEVENT
END:VCALENDAR
