BEGIN:VCALENDAR
VERSION:2.0
PRODID:-//213.186.33.4//NONSGML kigkonsult.se iCalcreator 2.20//
CALSCALE:GREGORIAN
METHOD:PUBLISH
X-WR-TIMEZONE:Europe/Paris
BEGIN:VEVENT
UID:event833@GUMS Paris
DTSTAMP:20260421T082251Z
CATEGORIES:Ski de Rando
DESCRIPTION:Car-couchettes Bernina\nCatégorie: Ski de Rando\nLien: https://
 www.gumsparis.asso.fr/index.php?option=com_jem&view=event&id=833:car-couch
 ette-208\n
DTSTART;VALUE=DATE:20220526
DTEND;VALUE=DATE:20220530
SUMMARY:Car-couchettes Bernina
URL:https://www.gumsparis.asso.fr/index.php?option=com_jem&view=event&id=83
 3:car-couchette-208
END:VEVENT
END:VCALENDAR
