BEGIN:VCALENDAR
VERSION:2.0
PRODID:-//213.186.33.4//NONSGML kigkonsult.se iCalcreator 2.20//
CALSCALE:GREGORIAN
METHOD:PUBLISH
X-WR-TIMEZONE:Europe/Paris
BEGIN:VEVENT
UID:event834@GUMS Paris
DTSTAMP:20260421T082212Z
CATEGORIES:Ski de Rando
DESCRIPTION:Car-couchettes Valais\nCatégorie: Ski de Rando\nLien: https://w
 ww.gumsparis.asso.fr/index.php?option=com_jem&view=event&id=834:car-couche
 tte-209\n
DTSTART;VALUE=DATE:20220604
DTEND;VALUE=DATE:20220607
SUMMARY:Car-couchettes Valais
URL:https://www.gumsparis.asso.fr/index.php?option=com_jem&view=event&id=83
 4:car-couchette-209
END:VEVENT
END:VCALENDAR
