BEGIN:VCALENDAR
VERSION:2.0
PRODID:-//213.186.33.4//NONSGML kigkonsult.se iCalcreator 2.20//
CALSCALE:GREGORIAN
METHOD:PUBLISH
X-WR-TIMEZONE:Europe/Paris
BEGIN:VEVENT
UID:event837@GUMS Paris
DTSTAMP:20260421T080749Z
CATEGORIES:Ski de Rando
DESCRIPTION:ski pulka en norvège\nCatégorie: Ski de Rando\nLien: https://ww
 w.gumsparis.asso.fr/index.php?option=com_jem&view=event&id=837:jotunheimen
 \n
DTSTART;VALUE=DATE:20220319
DTEND;VALUE=DATE:20220417
SUMMARY:ski pulka en norvège
URL:https://www.gumsparis.asso.fr/index.php?option=com_jem&view=event&id=83
 7:jotunheimen
END:VEVENT
END:VCALENDAR
