BEGIN:VCALENDAR
VERSION:2.0
PRODID:-//213.186.33.4//NONSGML kigkonsult.se iCalcreator 2.20//
CALSCALE:GREGORIAN
METHOD:PUBLISH
X-WR-TIMEZONE:Europe/Paris
BEGIN:VEVENT
UID:event839@GUMS Paris
DTSTAMP:20260421T082146Z
CATEGORIES:Sorties Falaises
DESCRIPTION:Escalade dans les Calanques\nCatégorie: Sorties Falaises\nLien:
  https://www.gumsparis.asso.fr/index.php?option=com_jem&view=event&id=839:
 escalade-dans-les-calanques\n
DTSTART;TZID=Europe/Paris:20220318T070000
DTEND;TZID=Europe/Paris:20220320T220000
SUMMARY:Escalade dans les Calanques
URL:https://www.gumsparis.asso.fr/index.php?option=com_jem&view=event&id=83
 9:escalade-dans-les-calanques
END:VEVENT
END:VCALENDAR
