BEGIN:VCALENDAR
VERSION:2.0
PRODID:-//213.186.33.4//NONSGML kigkonsult.se iCalcreator 2.20//
CALSCALE:GREGORIAN
METHOD:PUBLISH
X-WR-TIMEZONE:Europe/Paris
BEGIN:VEVENT
UID:event844@GUMS Paris
DTSTAMP:20260421T082212Z
CATEGORIES:Sorties Falaises
DESCRIPTION:Journée manip de corde\nCatégorie: Sorties Falaises\nLien: http
 s://www.gumsparis.asso.fr/index.php?option=com_jem&view=event&id=844:journ
 ee-manip-de-corde\n
DTSTART;VALUE=DATE:20220409
DTEND;VALUE=DATE:20220410
SUMMARY:Journée manip de corde
URL:https://www.gumsparis.asso.fr/index.php?option=com_jem&view=event&id=84
 4:journee-manip-de-corde
END:VEVENT
END:VCALENDAR
