BEGIN:VCALENDAR
VERSION:2.0
PRODID:-//213.186.33.4//NONSGML kigkonsult.se iCalcreator 2.20//
CALSCALE:GREGORIAN
METHOD:PUBLISH
X-WR-TIMEZONE:Europe/Paris
BEGIN:VEVENT
UID:event846@GUMS Paris
DTSTAMP:20260421T082248Z
CATEGORIES:Rando sportive
DESCRIPTION:Randonnée Alpine\, Pré-Alpes\nCatégorie: Rando sportive\nLien: 
 https://www.gumsparis.asso.fr/index.php?option=com_jem&view=event&id=846:c
 ar-couchette-214\n
DTSTART;VALUE=DATE:20220507
DTEND;VALUE=DATE:20220509
SUMMARY:Randonnée Alpine\, Pré-Alpes
URL:https://www.gumsparis.asso.fr/index.php?option=com_jem&view=event&id=84
 6:car-couchette-214
END:VEVENT
END:VCALENDAR
