BEGIN:VCALENDAR
VERSION:2.0
PRODID:-//213.186.33.4//NONSGML kigkonsult.se iCalcreator 2.20//
CALSCALE:GREGORIAN
METHOD:PUBLISH
X-WR-TIMEZONE:Europe/Paris
BEGIN:VEVENT
UID:event848@GUMS Paris
DTSTAMP:20260421T082215Z
CATEGORIES:Ski de Rando
DESCRIPTION:Car-couchettes Saint-Christophe-en-Oisans\nCatégorie: Ski de Ra
 ndo\nLien: https://www.gumsparis.asso.fr/index.php?option=com_jem&view=eve
 nt&id=848:car-couchette-211\n
DTSTART;VALUE=DATE:20220617
DTEND;VALUE=DATE:20220620
SUMMARY:Car-couchettes Saint-Christophe-en-Oisans
URL:https://www.gumsparis.asso.fr/index.php?option=com_jem&view=event&id=84
 8:car-couchette-211
END:VEVENT
END:VCALENDAR
