BEGIN:VCALENDAR
VERSION:2.0
PRODID:-//213.186.33.4//NONSGML kigkonsult.se iCalcreator 2.20//
CALSCALE:GREGORIAN
METHOD:PUBLISH
X-WR-TIMEZONE:Europe/Paris
BEGIN:VEVENT
UID:event853@GUMS Paris
DTSTAMP:20260421T082908Z
CATEGORIES:Sorties randonnée
DESCRIPTION:la basilique de Longpont et le pont des Templiers de Balizy\nCa
 tégorie: Sorties randonnée\nLien: https://www.gumsparis.asso.fr/index.php?
 option=com_jem&view=event&id=853:la-basilique-de-longpont-et-le-pont-des-t
 empliers-de-balizy\n
DTSTART;TZID=Europe/Paris:20220918T101500
DTEND;TZID=Europe/Paris:20220918T101500
SUMMARY:la basilique de Longpont et le pont des Templiers de Balizy
URL:https://www.gumsparis.asso.fr/index.php?option=com_jem&view=event&id=85
 3:la-basilique-de-longpont-et-le-pont-des-templiers-de-balizy
END:VEVENT
END:VCALENDAR
