BEGIN:VCALENDAR
VERSION:2.0
PRODID:-//213.186.33.4//NONSGML kigkonsult.se iCalcreator 2.20//
CALSCALE:GREGORIAN
METHOD:PUBLISH
X-WR-TIMEZONE:Europe/Paris
BEGIN:VEVENT
UID:event855@GUMS Paris
DTSTAMP:20260421T082110Z
CATEGORIES:Sorties Falaises
DESCRIPTION:Car-couchettes Aravis\nCatégorie: Sorties Falaises\nLien: https
 ://www.gumsparis.asso.fr/index.php?option=com_jem&view=event&id=855:car-co
 uchette-218\n
DTSTART;VALUE=DATE:20221008
DTEND;VALUE=DATE:20221010
SUMMARY:Car-couchettes Aravis
URL:https://www.gumsparis.asso.fr/index.php?option=com_jem&view=event&id=85
 5:car-couchette-218
END:VEVENT
END:VCALENDAR
