BEGIN:VCALENDAR
VERSION:2.0
PRODID:-//213.186.33.4//NONSGML kigkonsult.se iCalcreator 2.20//
CALSCALE:GREGORIAN
METHOD:PUBLISH
X-WR-TIMEZONE:Europe/Paris
BEGIN:VEVENT
UID:event856@GUMS Paris
DTSTAMP:20260421T082142Z
CATEGORIES:Vie du Club
DESCRIPTION:Pot de lancement stage initiation escalade\nCatégorie: Vie du C
 lub\nLien: https://www.gumsparis.asso.fr/index.php?option=com_jem&view=eve
 nt&id=856:pot-de-lancement-stage-initiation-escalade\n
DTSTART;TZID=Europe/Paris:20220908T190000
DTEND;TZID=Europe/Paris:20220908T190000
LOCATION:Perma\,53 rue du Moulin Vert\,75014 Paris
SUMMARY:Pot de lancement stage initiation escalade
URL:https://www.gumsparis.asso.fr/index.php?option=com_jem&view=event&id=85
 6:pot-de-lancement-stage-initiation-escalade
END:VEVENT
END:VCALENDAR
