BEGIN:VCALENDAR
VERSION:2.0
PRODID:-//213.186.33.4//NONSGML kigkonsult.se iCalcreator 2.20//
CALSCALE:GREGORIAN
METHOD:PUBLISH
X-WR-TIMEZONE:Europe/Paris
BEGIN:VEVENT
UID:event857@GUMS Paris
DTSTAMP:20260421T083630Z
CATEGORIES:Sorties Falaises
DESCRIPTION:Semaine d'escalade à Orpierre\nCatégorie: Sorties Falaises\nLie
 n: https://www.gumsparis.asso.fr/index.php?option=com_jem&view=event&id=85
 7:semaine-d-escalade-a-orpierre\n
DTSTART;VALUE=DATE:20221029
DTEND;VALUE=DATE:20221106
SUMMARY:Semaine d'escalade à Orpierre
URL:https://www.gumsparis.asso.fr/index.php?option=com_jem&view=event&id=85
 7:semaine-d-escalade-a-orpierre
END:VEVENT
END:VCALENDAR
