BEGIN:VCALENDAR
VERSION:2.0
PRODID:-//213.186.33.4//NONSGML kigkonsult.se iCalcreator 2.20//
CALSCALE:GREGORIAN
METHOD:PUBLISH
X-WR-TIMEZONE:Europe/Paris
BEGIN:VEVENT
UID:event860@GUMS Paris
DTSTAMP:20260421T082339Z
CATEGORIES:Sorties randonnée
DESCRIPTION:Week-end chez les Ch'ti\nCatégorie: Sorties randonnée\nLien: ht
 tps://www.gumsparis.asso.fr/index.php?option=com_jem&view=event&id=860:wee
 k-end-chez-les-ch-ti\n
DTSTART;VALUE=DATE:20221111
DTEND;VALUE=DATE:20221114
SUMMARY:Week-end chez les Ch'ti
URL:https://www.gumsparis.asso.fr/index.php?option=com_jem&view=event&id=86
 0:week-end-chez-les-ch-ti
END:VEVENT
END:VCALENDAR
